BEGIN:VCALENDAR
VERSION:2.0
PRODID:-//HOCKEY ROMORANTIN - ECPv6.6.3//NONSGML v1.0//EN
CALSCALE:GREGORIAN
METHOD:PUBLISH
X-ORIGINAL-URL:https://hockey-romorantin.fr
X-WR-CALDESC:évènements pour HOCKEY ROMORANTIN
REFRESH-INTERVAL;VALUE=DURATION:PT1H
X-Robots-Tag:noindex
X-PUBLISHED-TTL:PT1H
BEGIN:VTIMEZONE
TZID:Europe/Paris
BEGIN:DAYLIGHT
TZOFFSETFROM:+0100
TZOFFSETTO:+0200
TZNAME:CEST
DTSTART:20240331T010000
END:DAYLIGHT
BEGIN:STANDARD
TZOFFSETFROM:+0200
TZOFFSETTO:+0100
TZNAME:CET
DTSTART:20241027T010000
END:STANDARD
END:VTIMEZONE
BEGIN:VEVENT
DTSTART;TZID=Europe/Paris:20240921T100000
DTEND;TZID=Europe/Paris:20240921T173000
DTSTAMP:20260420T093127
CREATED:20240905T113748Z
LAST-MODIFIED:20240911T095027Z
UID:121-1726912800-1726939800@hockey-romorantin.fr
SUMMARY:Grande rencontre sportive et culturelle
DESCRIPTION:Hockey Romorantin sera présent à la Grande rencontre sportive et culturelle organisée par votre centre E. Leclerc Romorantin
URL:https://hockey-romorantin.fr/index.php/event/grande-rencontre-sportive-et-culturelle/
LOCATION:Centre E. Leclerc\, Centre E. Leclerc\, Romorantin\, 41200\, France
END:VEVENT
END:VCALENDAR