BEGIN:VCALENDAR
VERSION:2.0
PRODID:-//HOCKEY ROMORANTIN - ECPv6.6.3//NONSGML v1.0//EN
CALSCALE:GREGORIAN
METHOD:PUBLISH
X-ORIGINAL-URL:https://hockey-romorantin.fr
X-WR-CALDESC:évènements pour HOCKEY ROMORANTIN
REFRESH-INTERVAL;VALUE=DURATION:PT1H
X-Robots-Tag:noindex
X-PUBLISHED-TTL:PT1H
BEGIN:VTIMEZONE
TZID:Europe/Paris
BEGIN:DAYLIGHT
TZOFFSETFROM:+0100
TZOFFSETTO:+0200
TZNAME:CEST
DTSTART:20240331T010000
END:DAYLIGHT
BEGIN:STANDARD
TZOFFSETFROM:+0200
TZOFFSETTO:+0100
TZNAME:CET
DTSTART:20241027T010000
END:STANDARD
END:VTIMEZONE
BEGIN:VEVENT
DTSTART;TZID=Europe/Paris:20240907T100000
DTEND;TZID=Europe/Paris:20240907T180000
DTSTAMP:20260420T094016
CREATED:20240905T113337Z
LAST-MODIFIED:20240905T113337Z
UID:118-1725703200-1725732000@hockey-romorantin.fr
SUMMARY:Forum des associations
DESCRIPTION:Hockey Romorantin sera présent au Forum des associations de Romorantin
URL:https://hockey-romorantin.fr/index.php/event/forum-des-associations/
LOCATION:fabrique Normant\, Fabrique Normant\, Romorantin\, 41200\, France
END:VEVENT
END:VCALENDAR