BEGIN:VCALENDAR
VERSION:2.0
PRODID:-//HOCKEY ROMORANTIN - ECPv6.6.3//NONSGML v1.0//EN
CALSCALE:GREGORIAN
METHOD:PUBLISH
X-ORIGINAL-URL:https://hockey-romorantin.fr
X-WR-CALDESC:évènements pour HOCKEY ROMORANTIN
REFRESH-INTERVAL;VALUE=DURATION:PT1H
X-Robots-Tag:noindex
X-PUBLISHED-TTL:PT1H
BEGIN:VTIMEZONE
TZID:Europe/Paris
BEGIN:DAYLIGHT
TZOFFSETFROM:+0100
TZOFFSETTO:+0200
TZNAME:CEST
DTSTART:20240331T010000
END:DAYLIGHT
BEGIN:STANDARD
TZOFFSETFROM:+0200
TZOFFSETTO:+0100
TZNAME:CET
DTSTART:20241027T010000
END:STANDARD
END:VTIMEZONE
BEGIN:VEVENT
DTSTART;TZID=Europe/Paris:20240317T180000
DTEND;TZID=Europe/Paris:20240317T203000
DTSTAMP:20260422T195542
CREATED:20240211T173503Z
LAST-MODIFIED:20240211T173503Z
UID:101-1710698400-1710707400@hockey-romorantin.fr
SUMMARY:Match contre Joué-les-Tours
DESCRIPTION:Match Adultes Loisir Romorantin contre Joué-les-Tours
URL:https://hockey-romorantin.fr/index.php/event/match-contre-joue-les-tours/
LOCATION:Patinoire A. CALMAT\, 16 avenue de Paris\, Romorantin Lanthenay
END:VEVENT
END:VCALENDAR